{
 "currentVersion": 10.81,
 "serviceDescription": "Carrtographie de prélocalisation des zones humides dans la vallée de la Meuse.",
 "name": "GEORM/Zones_humides_potentielles_vallee_Meuse",
 "description": "Carrtographie de prélocalisation des zones humides dans la vallée de la Meuse.",
 "extent": {
  "xmin": 795457.9623000029,
  "ymin": 6762780.5035,
  "xmax": 925107.9623000029,
  "ymax": 7009380.5035,
  "spatialReference": {
   "wkid": 102110,
   "latestWkid": 2154,
   "vcsWkid": 5720,
   "latestVcsWkid": 5720
  }
 },
 "initialExtent": {
  "xmin": 795457.9623000029,
  "ymin": 6762780.5035,
  "xmax": 925107.9623000029,
  "ymax": 7009380.5035,
  "spatialReference": {
   "wkid": 102110,
   "latestWkid": 2154,
   "vcsWkid": 5720,
   "latestVcsWkid": 5720
  }
 },
 "fullExtent": {
  "xmin": 795457.9623000029,
  "ymin": 6762780.5035,
  "xmax": 925107.9623000029,
  "ymax": 7009380.5035,
  "spatialReference": {
   "wkid": 102110,
   "latestWkid": 2154,
   "vcsWkid": 5720,
   "latestVcsWkid": 5720
  }
 },
 "heightModelInfo": {
  "heightModel": "gravity_related_height",
  "vertCRS": "NGF_IGN69",
  "heightUnit": "meter"
 },
 "pixelSizeX": 25,
 "pixelSizeY": 25,
 "bandCount": 1,
 "pixelType": "U8",
 "minPixelSize": 0,
 "maxPixelSize": 0,
 "copyrightText": "EPAMA",
 "serviceDataType": "esriImageServiceDataTypeGeneric",
 "minValues": [
  9
 ],
 "maxValues": [
  60
 ],
 "meanValues": [
  19.968977443732918
 ],
 "stdvValues": [
  11.280998250988072
 ],
 "objectIdField": "",
 "fields": [],
 "capabilities": "Image,Metadata,Mensuration",
 "defaultMosaicMethod": "Center",
 "allowedMosaicMethods": "",
 "sortField": "",
 "sortValue": null,
 "sortAscending": true,
 "mosaicOperator": "First",
 "defaultCompressionQuality": 75,
 "defaultResamplingMethod": "Bilinear",
 "maxImageHeight": 4100,
 "maxImageWidth": 15000,
 "allowRasterFunction": true,
 "rasterFunctionInfos": [
  {
   "name": "None",
   "description": "",
   "help": ""
  }
 ],
 "rasterTypeInfos": [
  {
   "name": "Raster Dataset",
   "description": "Supports all ArcGIS Raster Datasets",
   "help": ""
  }
 ],
 "mensurationCapabilities": "Basic",
 "hasHistograms": true,
 "hasColormap": false,
 "hasRasterAttributeTable": true,
 "minScale": 0,
 "maxScale": 0,
 "exportTilesAllowed": false,
 "hasMultidimensions": false,
 "supportsStatistics": false,
 "supportsAdvancedQueries": false,
 "editFieldsInfo": null,
 "ownershipBasedAccessControlForRasters": null,
 "allowComputeTiePoints": false,
 "useStandardizedQueries": true,
 "advancedQueryCapabilities": {
  "useStandardizedQueries": true,
  "supportsStatistics": false,
  "supportsOrderBy": false,
  "supportsDistinct": false,
  "supportsPagination": false
 },
 "spatialReference": {
  "wkid": 102110,
  "latestWkid": 2154,
  "vcsWkid": 5720,
  "latestVcsWkid": 5720
 }
}
