View In:
ArcGIS JavaScript
ArcGIS Online Map Viewer
ArcGIS Earth
ArcMap
View Footprint In:
ArcGIS Online Map Viewer
Service Description: Enveloppes de milieux potentiellement humides en 3 classes de confiance. La prédiction des zones humides est un enjeu majeur pour concevoir et mettre en œuvre une politique nationale cohérente visant à la préservation de ces écosystèmes fragiles mais essentiels qui sont impliqués dans la production de nombreux services écosystémiques. Fortement liée à la situation topographique, l’occurrence des zones humides potentielles est principalement conditionnée par la géomorphologie, les précipitations et la dénivelée au cours d’eau. Cette étude teste à l’échelle de la France métropolitaine le développement et la mise en œuvre d’une méthode fondée sur la combinaison d’un indice topo-climatique (Mérot et al., 2003) avec la dénivelée au cours d’eau pour prédire la distribution spatiale des zones humides potentielles. Pour plus d'informations, consulter la notice accompagnement : http://geowww.agrocampus-ouest.fr/metadata/pdf/Notice_MPH_France-1.pdf
Name: GEORM/Milieux_potentiellement_humides_France
Description: Enveloppes de milieux potentiellement humides en 3 classes de confiance. La prédiction des zones humides est un enjeu majeur pour concevoir et mettre en œuvre une politique nationale cohérente visant à la préservation de ces écosystèmes fragiles mais essentiels qui sont impliqués dans la production de nombreux services écosystémiques. Fortement liée à la situation topographique, l’occurrence des zones humides potentielles est principalement conditionnée par la géomorphologie, les précipitations et la dénivelée au cours d’eau. Cette étude teste à l’échelle de la France métropolitaine le développement et la mise en œuvre d’une méthode fondée sur la combinaison d’un indice topo-climatique (Mérot et al., 2003) avec la dénivelée au cours d’eau pour prédire la distribution spatiale des zones humides potentielles. Pour plus d'informations, consulter la notice accompagnement : http://geowww.agrocampus-ouest.fr/metadata/pdf/Notice_MPH_France-1.pdf
Single Fused Map Cache: false
Extent:
XMin: 796083
YMin: 6710814
XMax: 1082883
YMax: 7009414
Spatial Reference: 102110
(2154)
Initial Extent:
XMin: 796083
YMin: 6710814
XMax: 1082883
YMax: 7009414
Spatial Reference: 102110
(2154)
Full Extent:
XMin: 796083
YMin: 6710814
XMax: 1082883
YMax: 7009414
Spatial Reference: 102110
(2154)
Pixel Size X: 50.0
Pixel Size Y: 50.0
Band Count: 1
Pixel Type: S8
RasterFunction Infos: {"rasterFunctionInfos": [{
"name": "None",
"description": "",
"help": ""
}]}
Mensuration Capabilities: Basic
Has Histograms: true
Has Colormap: false
Has Multi Dimensions : false
Rendering Rule:
Min Scale: 0
Max Scale: 0
Copyright Text: UMR 1069 SAS INRA - Agrocampus Ouest
Service Data Type: esriImageServiceDataTypeGeneric
Min Values: 1
Max Values: 51
Mean Values: 2.5747060781375413
Standard Deviation Values: 5.380281106639972
Object ID Field:
Fields:
None
Default Mosaic Method: Center
Allowed Mosaic Methods:
SortField:
SortValue: null
Mosaic Operator: First
Default Compression Quality: 75
Default Resampling Method: Bilinear
Max Record Count: null
Max Image Height: 4100
Max Image Width: 15000
Max Download Image Count: null
Max Mosaic Image Count: null
Allow Raster Function: true
Allow Copy: null
Allow Analysis: null
Allow Compute TiePoints: false
Supports Statistics: false
Supports Advanced Queries: false
Use StandardizedQueries: true
Raster Type Infos:
Name: Raster Dataset
Description: Supports all ArcGIS Raster Datasets
Help:
Has Raster Attribute Table: true
Edit Fields Info: null
Ownership Based AccessControl For Rasters: null
Child Resources:
Info
Raster Attribute Table
Histograms
Key Properties
Legend
Raster Function Infos
Supported Operations:
Export Image
Identify
Measure
Compute Histograms
Compute Statistics Histograms
Get Samples
Compute Class Statistics
Query Boundary
Compute Pixel Location
Validate
Project