View In:
ArcGIS JavaScript
ArcGIS Online Map Viewer
ArcGIS Earth
ArcMap
View Footprint In:
ArcGIS Online Map Viewer
Service Description: Carrtographie de prélocalisation des zones humides dans la vallée de la Meuse.
Name: GEORM/Zones_humides_potentielles_vallee_Meuse
Description: Carrtographie de prélocalisation des zones humides dans la vallée de la Meuse.
Single Fused Map Cache: false
Extent:
XMin: 795457.9623000029
YMin: 6762780.5035
XMax: 925107.9623000029
YMax: 7009380.5035
Spatial Reference: 102110
(2154)
VCSWkid(5720)
LatestVCSWkid(5720)
Initial Extent:
XMin: 795457.9623000029
YMin: 6762780.5035
XMax: 925107.9623000029
YMax: 7009380.5035
Spatial Reference: 102110
(2154)
VCSWkid(5720)
LatestVCSWkid(5720)
Full Extent:
XMin: 795457.9623000029
YMin: 6762780.5035
XMax: 925107.9623000029
YMax: 7009380.5035
Spatial Reference: 102110
(2154)
VCSWkid(5720)
LatestVCSWkid(5720)
Pixel Size X: 25.0
Pixel Size Y: 25.0
Band Count: 1
Pixel Type: U8
RasterFunction Infos: {"rasterFunctionInfos": [{
"name": "None",
"description": "",
"help": ""
}]}
Mensuration Capabilities: Basic
Has Histograms: true
Has Colormap: false
Has Multi Dimensions : false
Rendering Rule:
Min Scale: 0
Max Scale: 0
Copyright Text: EPAMA
Service Data Type: esriImageServiceDataTypeGeneric
Min Values: 9
Max Values: 60
Mean Values: 19.968977443732918
Standard Deviation Values: 11.280998250988072
Object ID Field:
Fields:
None
Default Mosaic Method: Center
Allowed Mosaic Methods:
SortField:
SortValue: null
Mosaic Operator: First
Default Compression Quality: 75
Default Resampling Method: Bilinear
Max Record Count: null
Max Image Height: 4100
Max Image Width: 15000
Max Download Image Count: null
Max Mosaic Image Count: null
Allow Raster Function: true
Allow Copy: null
Allow Analysis: null
Allow Compute TiePoints: false
Supports Statistics: false
Supports Advanced Queries: false
Use StandardizedQueries: true
Raster Type Infos:
Name: Raster Dataset
Description: Supports all ArcGIS Raster Datasets
Help:
Has Raster Attribute Table: true
Edit Fields Info: null
Ownership Based AccessControl For Rasters: null
Child Resources:
Info
Raster Attribute Table
Histograms
Key Properties
Legend
Raster Function Infos
Supported Operations:
Export Image
Identify
Measure
Compute Histograms
Compute Statistics Histograms
Get Samples
Compute Class Statistics
Query Boundary
Compute Pixel Location
Validate
Project